BEGIN:VCALENDAR
VERSION:2.0
PRODID:-//Beckett Corporation - ECPv6.15.17//NONSGML v1.0//EN
CALSCALE:GREGORIAN
METHOD:PUBLISH
X-ORIGINAL-URL:https://training.beckettcorp.com
X-WR-CALDESC:Events for Beckett Corporation
REFRESH-INTERVAL;VALUE=DURATION:PT1H
X-Robots-Tag:noindex
X-PUBLISHED-TTL:PT1H
BEGIN:VTIMEZONE
TZID:America/New_York
BEGIN:DAYLIGHT
TZOFFSETFROM:-0500
TZOFFSETTO:-0400
TZNAME:EDT
DTSTART:20220313T070000
END:DAYLIGHT
BEGIN:STANDARD
TZOFFSETFROM:-0400
TZOFFSETTO:-0500
TZNAME:EST
DTSTART:20221106T060000
END:STANDARD
BEGIN:DAYLIGHT
TZOFFSETFROM:-0500
TZOFFSETTO:-0400
TZNAME:EDT
DTSTART:20230312T070000
END:DAYLIGHT
BEGIN:STANDARD
TZOFFSETFROM:-0400
TZOFFSETTO:-0500
TZNAME:EST
DTSTART:20231105T060000
END:STANDARD
BEGIN:DAYLIGHT
TZOFFSETFROM:-0500
TZOFFSETTO:-0400
TZNAME:EDT
DTSTART:20240310T070000
END:DAYLIGHT
BEGIN:STANDARD
TZOFFSETFROM:-0400
TZOFFSETTO:-0500
TZNAME:EST
DTSTART:20241103T060000
END:STANDARD
BEGIN:DAYLIGHT
TZOFFSETFROM:-0500
TZOFFSETTO:-0400
TZNAME:EDT
DTSTART:20250309T070000
END:DAYLIGHT
BEGIN:STANDARD
TZOFFSETFROM:-0400
TZOFFSETTO:-0500
TZNAME:EST
DTSTART:20251102T060000
END:STANDARD
BEGIN:DAYLIGHT
TZOFFSETFROM:-0500
TZOFFSETTO:-0400
TZNAME:EDT
DTSTART:20260308T070000
END:DAYLIGHT
BEGIN:STANDARD
TZOFFSETFROM:-0400
TZOFFSETTO:-0500
TZNAME:EST
DTSTART:20261101T060000
END:STANDARD
END:VTIMEZONE
BEGIN:VEVENT
DTSTART;TZID=America/New_York:20250424T090000
DTEND;TZID=America/New_York:20250424T150000
DTSTAMP:20260420T103756
CREATED:20250318T171908Z
LAST-MODIFIED:20250425T143446Z
UID:10000156-1745485200-1745506800@training.beckettcorp.com
SUMMARY:National Education Program (NEP) Residential Hands-On Training | 04.24.2025
DESCRIPTION:This program is specifically designed to enhance the knowledge of servicemen\, installers\, or related personnel\, regardless of background or years of experience. Veterans and beginners find the course logical and easy to follow. \nProgram Content\nThe subject matter will be technical in nature\, with strong emphasis placed on burner service techniques and set-up requirements as outlined in the OEM Spec Guide. \nThe program will feature hands-on training for the following Beckett components:\n\nBurner Builds for different OEM appliances\nProgramming GeniSys 7505 and GeniSys 7565 Primary Controls through the Beckett myTechnician App\nProgramming AquaSmart control\n\nWhat’s included:\n\nLunch & Refreshments\n6711 OEM Spec Guide\nThumb drive containing: Digital Tech Manual (Residential and Commercial)\, Training videos\, Technical Bulletins\, and I&O Manuals.\n\nEach attendee will be given the following contractor service items upon completion of this course:\n\nGeniSys BeckettLink Pro Tool\nT-501 Adjustment Tool\nZ-2000 Adjustment Tool\n\n \nThis class qualifies for National Oil Heat Research Alliance (NORA) Continuing Education (CEU) Credit.
URL:https://training.beckettcorp.com/event/national-education-program-nep-residential-hands-on-training-04-24-2025/
LOCATION:Hampton Inn | Middletown\, NY\, 20 Crystal Run Crossing\, Middletown\, NY\, 10941\, United States
CATEGORIES:National Education Program (NEP) Hands-On Residential Burners Training
ATTACH;FMTTYPE=image/jpeg:https://training.beckettcorp.com/wp-content/uploads/2023/02/Introduction-to-Burner-Performance-Factors-Troubleshooting-thumb.jpg
GEO:41.4470874;-74.3652179
X-APPLE-STRUCTURED-LOCATION;VALUE=URI;X-ADDRESS=Hampton Inn | Middletown NY 20 Crystal Run Crossing Middletown NY 10941 United States;X-APPLE-RADIUS=500;X-TITLE=20 Crystal Run Crossing:geo:-74.3652179,41.4470874
END:VEVENT
BEGIN:VEVENT
DTSTART;TZID=America/New_York:20240417T090000
DTEND;TZID=America/New_York:20240417T150000
DTSTAMP:20260420T103756
CREATED:20240202T215040Z
LAST-MODIFIED:20240307T172546Z
UID:10000090-1713344400-1713366000@training.beckettcorp.com
SUMMARY:National Education Program (NEP) Residential Hands-On Training | 04.17.2024
DESCRIPTION:This program is specifically designed to enhance the knowledge of servicemen\, installers\, or related personnel\, regardless of background or years of experience. Veterans and beginners find the course logical and easy to follow. Even if you have taken this class in previous years\, program content changes from year to year. Beckett’s hands on approach and classroom participation along with hand-outs will keep students engaged throughout the training. \nHands-On Training methods include the following:\n\nBurner builds for different OEM appliances (includes electrode setting\, Z dimension\, air settings etc.)\nProgramming GeniSys 7505 and GeniSys 7565 Primary Controls through the Beckett myTechnician App\nProgramming AquaSmart control\n\nCompletion of this training will upskill field contractors and enhance their product knowledge so they will be able to perform the following field activities:\n\nUnderstand the importance of good combustion on appliance performance and efficiency\nIdentify liquid heating fuels allowed for use in Beckett’s oil burners\nComplete set-up procedures as outlined in the OEM Spec Guide\nDownload the myTechnician app\nProgram GeniSys controls using the myTechnician app\nCreate\, file and save a complete field service report using the myTechnician app\n\nWhat’s included:\n\nLunch & Refreshments\n6711 OEM Spec Guide\nThumb drive containing: Digital Tech Manual (Residential and Commercial)\, Training videos\, Technical Bulletins\, and I&O Manuals.\n\nEach attendee will be given the following contractor service items upon completion of this course:\n\nGeniSys BeckettLink Pro Tool | 7652A\nT-501 Adjustment Tool\nZ-2000 Adjustment Tool\n\n  \n \nThis class qualifies for National Oil Heat Research Alliance (NORA) Continuing Education (CEU) Credit.
URL:https://training.beckettcorp.com/event/national-education-program-nep-residential-hands-on-training-04-17-2024/
LOCATION:Hampton Inn | Middletown\, NY\, 20 Crystal Run Crossing\, Middletown\, NY\, 10941\, United States
CATEGORIES:National Education Program (NEP) Hands-On Residential Burners Training
ATTACH;FMTTYPE=image/jpeg:https://training.beckettcorp.com/wp-content/uploads/2023/02/Introduction-to-Burner-Performance-Factors-Troubleshooting-thumb.jpg
GEO:41.4470874;-74.3652179
X-APPLE-STRUCTURED-LOCATION;VALUE=URI;X-ADDRESS=Hampton Inn | Middletown NY 20 Crystal Run Crossing Middletown NY 10941 United States;X-APPLE-RADIUS=500;X-TITLE=20 Crystal Run Crossing:geo:-74.3652179,41.4470874
END:VEVENT
BEGIN:VEVENT
DTSTART;TZID=America/New_York:20230419T090000
DTEND;TZID=America/New_York:20230419T150000
DTSTAMP:20260420T103756
CREATED:20230221T024210Z
LAST-MODIFIED:20240307T172550Z
UID:10000035-1681894800-1681916400@training.beckettcorp.com
SUMMARY:National Education Program (NEP) Residential Hands-On Training | 04.19.2023
DESCRIPTION:This program is specifically designed to enhance the knowledge of servicemen\, installers\, or related personnel\, regardless of background or years of experience. Veterans and beginners find the course logical and easy to follow. \nProgram Content\nThe subject matter will be technical in nature\, with strong emphasis placed on burner service techniques and set-up requirements as outlined in the OEM Spec Guide. \nThe program will feature hands-on training for the following Beckett components:\n\nBurner Builds for different OEM appliances\nProgramming GeniSys 7505 and GeniSys 7565 Primary Controls through the Beckett myTechnician App\nProgramming AquaSmart control\n\nWhat’s included:\n\nLunch & Refreshments\n6711 OEM Spec Guide\nThumb drive containing: Digital Tech Manual (Residential and Commercial)\, Training videos\, Technical Bulletins\, and I&O Manuals.\n\nEach attendee will be given the following contractor service items upon completion of this course:\n\nGeniSys BeckettLink Pro Tool\nT-501 Adjustment Tool\nZ-2000 Adjustment Tool\n*Pressure Gauge Manifold Assembly\n*Vacuum Gauge Manifold Assembly\n\n*Pending supply chain issues. In the event we do not have in\, at time of the training\, the gauges will be mailed to the attendee at a later date upon arrival.
URL:https://training.beckettcorp.com/event/national-education-program-nep-residential-hands-on-training-04-19-2023/
LOCATION:Hampton Inn | Middletown\, NY\, 20 Crystal Run Crossing\, Middletown\, NY\, 10941\, United States
CATEGORIES:National Education Program (NEP) Hands-On Residential Burners Training
ATTACH;FMTTYPE=image/jpeg:https://training.beckettcorp.com/wp-content/uploads/2023/02/Introduction-to-Burner-Performance-Factors-Troubleshooting-thumb.jpg
GEO:41.4470874;-74.3652179
X-APPLE-STRUCTURED-LOCATION;VALUE=URI;X-ADDRESS=Hampton Inn | Middletown NY 20 Crystal Run Crossing Middletown NY 10941 United States;X-APPLE-RADIUS=500;X-TITLE=20 Crystal Run Crossing:geo:-74.3652179,41.4470874
END:VEVENT
END:VCALENDAR