BEGIN:VCALENDAR
VERSION:2.0
PRODID:-//Beckett Corporation - ECPv6.15.17//NONSGML v1.0//EN
CALSCALE:GREGORIAN
METHOD:PUBLISH
X-WR-CALNAME:Beckett Corporation
X-ORIGINAL-URL:https://training.beckettcorp.com
X-WR-CALDESC:Events for Beckett Corporation
REFRESH-INTERVAL;VALUE=DURATION:PT1H
X-Robots-Tag:noindex
X-PUBLISHED-TTL:PT1H
BEGIN:VTIMEZONE
TZID:America/New_York
BEGIN:DAYLIGHT
TZOFFSETFROM:-0500
TZOFFSETTO:-0400
TZNAME:EDT
DTSTART:20250309T070000
END:DAYLIGHT
BEGIN:STANDARD
TZOFFSETFROM:-0400
TZOFFSETTO:-0500
TZNAME:EST
DTSTART:20251102T060000
END:STANDARD
BEGIN:DAYLIGHT
TZOFFSETFROM:-0500
TZOFFSETTO:-0400
TZNAME:EDT
DTSTART:20260308T070000
END:DAYLIGHT
BEGIN:STANDARD
TZOFFSETFROM:-0400
TZOFFSETTO:-0500
TZNAME:EST
DTSTART:20261101T060000
END:STANDARD
BEGIN:DAYLIGHT
TZOFFSETFROM:-0500
TZOFFSETTO:-0400
TZNAME:EDT
DTSTART:20270314T070000
END:DAYLIGHT
BEGIN:STANDARD
TZOFFSETFROM:-0400
TZOFFSETTO:-0500
TZNAME:EST
DTSTART:20271107T060000
END:STANDARD
END:VTIMEZONE
BEGIN:VEVENT
DTSTART;TZID=America/New_York:20260120T083000
DTEND;TZID=America/New_York:20260120T150000
DTSTAMP:20260422T070016
CREATED:20251215T154822Z
LAST-MODIFIED:20251215T155851Z
UID:10000188-1768897800-1768921200@training.beckettcorp.com
SUMMARY:Basic Burner Training | 01.20.2026
DESCRIPTION:Installation\, application and operation training on the Beckett AF\, AFG and NX burners. Training will feature assembly\, set up and installation of the burners\, including fixed and variable head applications adjustments. Combustion chambers\, combustion testing and oil burner components will be included. \n \nThis class qualifies for National Oil Heat Research Alliance (NORA) Continuing Education (CEU) Credit.
URL:https://training.beckettcorp.com/event/basic-burner-training-01-20-2026/
LOCATION:Beckett Training Center\, 660 Main Street\, Fiskdale\, MA\, 01518\, United States
CATEGORIES:Basic Oil Burners Training
ATTACH;FMTTYPE=image/jpeg:https://training.beckettcorp.com/wp-content/uploads/2023/02/Basic-Oil-Burners-in-person-event-featured-image-min.jpg
GEO:42.115672;-72.124263
X-APPLE-STRUCTURED-LOCATION;VALUE=URI;X-ADDRESS=Beckett Training Center 660 Main Street Fiskdale MA 01518 United States;X-APPLE-RADIUS=500;X-TITLE=660 Main Street:geo:-72.124263,42.115672
END:VEVENT
END:VCALENDAR